BEGIN:VCALENDAR
VERSION:2.0
PRODID:-//Tukios.com/
BEGIN:VEVENT
UID:21c77520-a4d7-4f5b-a54d-ea08bdd0a9dc@www.shaffercollinsfh.com
DTSTAMP:20260424T031343Z
DTSTART:20260501T190000Z
DTEND:20260501T230000Z
SUMMARY:Viewing
DESCRIPTION:
URL:https://www.shaffercollinsfh.com/obituaries/johnnie-wilkerson
LOCATION: 247 West 6th St  Yazoo City MS 39194
GEO:32.8582307;-90.4121867
END:VEVENT
END:VCALENDAR