BEGIN:VCALENDAR
VERSION:2.0
PRODID:-//Tukios.com/
BEGIN:VEVENT
UID:2b44cd12-d574-46d2-b03f-2a7e46451d95@www.shaffercollinsfh.com
DTSTAMP:20260424T031355Z
DTSTART:20260502T173000Z
DTEND:20260502T174500Z
SUMMARY:Burial
DESCRIPTION:
URL:https://www.shaffercollinsfh.com/obituaries/johnnie-wilkerson
LOCATION:Day Cemetery Scotland Rd  Bentonia MS 39040
GEO:32.6893247;-90.2431858
END:VEVENT
END:VCALENDAR