BEGIN:VCALENDAR
VERSION:2.0
PRODID:-//Tukios.com/
BEGIN:VEVENT
UID:b2c94862-48b5-485d-8c02-037969732191@www.shaffercollinsfh.com
DTSTAMP:20260425T002234Z
DTSTART:20260501T200000Z
DTEND:20260501T230000Z
SUMMARY:Visitation
DESCRIPTION:
URL:https://www.shaffercollinsfh.com/obituaries/johnny-trambel
LOCATION: 984 Cox Ferry Road  Flora MS 39071
GEO:32.553775;-90.3550722
END:VEVENT
END:VCALENDAR