BEGIN:VCALENDAR
VERSION:2.0
PRODID:-//Tukios.com/
BEGIN:VEVENT
UID:6dc00137-1f55-4a52-a798-663ec5d5c4be@www.shaffercollinsfh.com
DTSTAMP:20260425T002611Z
DTSTART:20260502T160000Z
DTEND:20260502T170000Z
SUMMARY:Funeral Service
DESCRIPTION:
URL:https://www.shaffercollinsfh.com/obituaries/johnny-trambel
LOCATION:Mt. Elam MB Church 306 Mt Elam Rd  Flora MS 39071
GEO:32.6370204;-90.2091761
END:VEVENT
END:VCALENDAR