BEGIN:VCALENDAR
VERSION:2.0
PRODID:-//Tukios.com/
BEGIN:VEVENT
UID:0eed8553-a712-4bc8-bc89-76da08ba0dbe@www.shaffercollinsfh.com
DTSTAMP:20260425T002459Z
DTSTART:20260502T180000Z
DTEND:20260502T190000Z
SUMMARY:Burial
DESCRIPTION:
URL:https://www.shaffercollinsfh.com/obituaries/johnny-trambel
LOCATION: 306 Mt Elam Rd  Flora MS 39071
GEO:32.6370204;-90.2091761
END:VEVENT
END:VCALENDAR