BEGIN:VCALENDAR
VERSION:2.0
PRODID:-//Tukios.com/
BEGIN:VEVENT
UID:9dccb606-7ccf-4184-8903-b152de1c9418@www.shaffercollinsfh.com
DTSTAMP:20260425T002837Z
DTSTART:20260502T190000Z
DTEND:20260502T230000Z
SUMMARY:Visitation
DESCRIPTION:
URL:https://www.shaffercollinsfh.com/obituaries/willie-scott
LOCATION: 247 West 6th St  Yazoo City MS 39194
GEO:32.8582307;-90.4121867
END:VEVENT
END:VCALENDAR