BEGIN:VCALENDAR
VERSION:2.0
PRODID:-//Tukios.com/
BEGIN:VEVENT
UID:3b4a7b6a-01dd-4d4a-a5c2-9bb1954b735b@www.shaffercollinsfh.com
DTSTAMP:20260425T003026Z
DTSTART:20260503T190000Z
DTEND:20260503T200000Z
SUMMARY:Funeral Service
DESCRIPTION:
URL:https://www.shaffercollinsfh.com/obituaries/willie-scott
LOCATION:  Mississippi 433  Bentonia MS 39040
GEO:32.6541106;-90.3501585
END:VEVENT
END:VCALENDAR