BEGIN:VCALENDAR
VERSION:2.0
PRODID:-//Tukios.com/
BEGIN:VEVENT
UID:55aa0e32-a7fc-427e-9b07-1f98ffed40aa@www.shaffercollinsfh.com
DTSTAMP:20260425T002439Z
DTSTART:20260503T210000Z
DTEND:20260503T211500Z
SUMMARY:Burial
DESCRIPTION:
URL:https://www.shaffercollinsfh.com/obituaries/willie-scott
LOCATION: 210 Wilson Holmes Rd  Bentonia MS 39040
GEO:32.6624938;-90.369286
END:VEVENT
END:VCALENDAR